Workbook
Name RespList: [1]Survey03!$M$2:$M$7
Name ScoreList: [1]Survey03!$N$2:$N$7
Name YesNoList: [2]iFrameGen!$K$1:$K$2

Sheet Teacher_Survey
A1: Teacher 1 | B1: Teacher Action Review Tool 1
D2: (1) Never | E2: (2) Rarely | F2: (3) Sometimes | G2: (4) Routienely | L2: 1 | M2: 2 | N2: 3 | O2: 4 | P2: Answer | Q2: Average for question
B3: Q1 | C3: I explain and remind pupils that being stuck is an okay (interesting) place to be. | L3: =IF(D3="x",1,"") | M3: =IF(E3="x",2,"") | N3: =IF(F3="x",3,"") | O3: =IF(G3="x",4,"") | P3: =IF(SUM(L3:O3)=0,"",SUM(L3:O3)) | R3: Instructions:
B4: Q2 | C4: I refer to some simple strategies that all pupils can use when they are stuck. | L4: =IF(D4="x",1,"") | M4: =IF(E4="x",2,"") | N4: =IF(F4="x",3,"") | P4: =IF(SUM(L4:O4)=0,"",SUM(L4:O4)) | R4: Answer with an ' x '. One per question
B5: Q3 | C5: I have introduced and refer to pupils to various ways of managing their distractions. | L5: =IF(D5="x",1,"") | M5: =IF(E5="x",2,"") | N5: =IF(F5="x",3,"") | O5: =IF(G5="x",4,"") | P5: =IF(SUM(L5:O5)=0,"",SUM(L5:O5))
B6: Q4 | C6: I design activities that challenge every pupil. | L6: =IF(D6="x",1,"") | M6: =IF(E6="x",2,"") | N6: =IF(F6="x",3,"") | O6: =IF(G6="x",4,"") | P6: =IF(SUM(L6:O6)=0,"",SUM(L6:O6))
B7: Q5 | C7: I encourage pupils to visualise how they want something to be like when it's finished. | L7: =IF(D7="x",1,"") | M7: =IF(E7="x",2,"") | N7: =IF(F7="x",3,"") | O7: =IF(G7="x",4,"") | P7: =IF(SUM(L7:O7)=0,"",SUM(L7:O7))
B8: Q6 | C8: We have agreed and use a set of ground rules for collaboration. | L8: =IF(D8="x",1,"") | M8: =IF(E8="x",2,"") | N8: =IF(F8="x",3,"") | O8: =IF(G8="x",4,"") | P8: =IF(SUM(L8:O8)=0,"",SUM(L8:O8))
B9: Q7 | C9: We use activities where pupils need to work together to complete a task. | L9: =IF(D9="x",1,"") | M9: =IF(E9="x",2,"") | N9: =IF(F9="x",3,"") | O9: =IF(G9="x",4,"") | P9: =IF(SUM(L9:O9)=0,"",SUM(L9:O9))
B10: Q8 | C10: Displays and classroom talk emphasise the different ways to work in a group (team). | L10: =IF(D10="x",1,"") | M10: =IF(E10="x",2,"") | N10: =IF(F10="x",3,"") | O10: =IF(G10="x",4,"") | P10: =IF(SUM(L10:O10)=0,"",SUM(L10:O10))
B11: Q9 | C11: I spend time discussing the importance of what objectives collaborative task really mean. | L11: =IF(D11="x",1,"") | M11: =IF(E11="x",2,"") | N11: =IF(F11="x",3,"") | O11: =IF(G11="x",4,"") | P11: =IF(SUM(L11:O11)=0,"",SUM(L11:O11))
B12: Q10 | C12: I give pupils time to review their actions as a team | L12: =IF(D12="x",1,"") | M12: =IF(E12="x",2,"") | N12: =IF(F12="x",3,"") | O12: =IF(G12="x",4,"") | P12: =IF(SUM(L12:O12)=0,"",SUM(L12:O12))
B13: Q11 | C13: I invite and enable pupils to think up and ask their own questions. | L13: =IF(D13="x",1,"") | M13: =IF(E13="x",2,"") | N13: =IF(F13="x",3,"") | O13: =IF(G13="x",4,"") | P13: =IF(SUM(L13:O13)=0,"",SUM(L13:O13))
B14: Q12 | C14: I enable pupils to accurately search for information in libraries, books and the internet. | L14: =IF(D14="x",1,"") | M14: =IF(E14="x",2,"") | N14: =IF(F14="x",3,"") | O14: =IF(G14="x",4,"") | P14: =IF(SUM(L14:O14)=0,"",SUM(L14:O14))
B15: Q13 | C15: I concentrate pupils to on finding out information (knowledge questions). | L15: =IF(D15="x",1,"") | M15: =IF(E15="x",2,"") | N15: =IF(F15="x",3,"") | O15: =IF(G15="x",4,"") | P15: =IF(SUM(L15:O15)=0,"",SUM(L15:O15))
B16: Q14 | C16: I help pupils to practise using open and closed questions. | L16: =IF(D16="x",1,"") | M16: =IF(E16="x",2,"") | N16: =IF(F16="x",3,"") | O16: =IF(G16="x",4,"") | P16: =IF(SUM(L16:O16)=0,"",SUM(L16:O16))
B17: Q15 | C17: My classroom culture is question friendly, using 'no-hands up' and wait time. | L17: =IF(D17="x",1,"") | M17: =IF(E17="x",2,"") | N17: =IF(F17="x",3,"") | O17: =IF(G17="x",4,"") | P17: =IF(SUM(L17:O17)=0,"",SUM(L17:O17))

Sheet Pupil_Survey
A1: Pupil 1 | B1: Pupil Reaction Review tool 1
B2: Name: | C2: [Pupil 1] | D2: (1) I'm rarely like this | E2: (2) I'm sometimes like this | F2: (3) I'm quite often like this | G2: (4) I'm usually like this | L2: 1 | M2: 2 | N2: 3 | O2: 4 | P2: Answer | Q2: Average for question
B3: Q1 | C3: I think being stuck is an intresting place to be | L3: =IF(D3="x",1,"") | M3: =IF(E3="x",2,"") | N3: =IF(F3="x",3,"") | O3: =IF(G3="x",4,"") | P3: =IF(SUM(L3:O3)=0,"",SUM(L3:O3)) | Q3: =AVERAGE(P3,P20,P37,P54,P71,P88,P105,P122,P139,P156,P173,P190,P207,P224,P241,P258,P275,P292,P309,P326,P343,P360,P377,P394,P411,P428,P445,P462,P479,P496,P513,P530) -> #DIV/0!
B4: Q2 | C4: I get myself unstuck in lots of different ways. | J4: Answer with an ' x '. One per question | L4: =IF(D4="x",1,"") | M4: =IF(E4="x",2,"") | N4: =IF(F4="x",3,"") | P4: =IF(SUM(L4:O4)=0,"",SUM(L4:O4)) | Q4: =AVERAGE(P4,P21,P38,P55,P72,P89,P106,P123,P140,P157,P174,P191,P208,P225,P242,P259,P276,P293,P310,P327,P344,P361,P378,P395,P412,P429,P446,P463,P480,P497,P514,P531) -> #DIV/0!
B5: Q3 | C5: I know what to do when I get distracted in the classroom. | L5: =IF(D5="x",1,"") | M5: =IF(E5="x",2,"") | N5: =IF(F5="x",3,"") | O5: =IF(G5="x",4,"") | P5: =IF(SUM(L5:O5)=0,"",SUM(L5:O5)) | Q5: =AVERAGE(P5,P22,P39,P56,P73,P90,P107,P124,P141,P158,P175,P192,P209,P226,P243,P260,P277,P294,P311,P328,P345,P362,P379,P396,P413,P430,P447,P464,P481,P498,P515,P532) -> #DIV/0!
B6: Q4 | C6: I like to try challenging (hard) activities. | L6: =IF(D6="x",1,"") | M6: =IF(E6="x",2,"") | N6: =IF(F6="x",3,"") | O6: =IF(G6="x",4,"") | P6: =IF(SUM(L6:O6)=0,"",SUM(L6:O6)) | Q6: =AVERAGE(P6,P23,P40,P57,P74,P91,P108,P125,P142,P159,P176,P193,P210,P227,P244,P261,P278,P295,P312,P329,P346,P363,P380,P397,P414,P431,P448,P465,P482,P499,P516,P533) -> #DIV/0!
B7: Q5 | C7: Before I start something I think about what it will look like when it's finished. | L7: =IF(D7="x",1,"") | M7: =IF(E7="x",2,"") | N7: =IF(F7="x",3,"") | O7: =IF(G7="x",4,"") | P7: =IF(SUM(L7:O7)=0,"",SUM(L7:O7)) | Q7: =AVERAGE(P7,P24,P41,P58,P75,P92,P109,P126,P143,P160,P177,P194,P211,P228,P245,P262,P279,P296,P313,P330,P347,P364,P381,P398,P415,P432,P449,P466,P483,P500,P517,P534) -> #DIV/0!
B8: Q6 | C8: I listen carefully when I'm learning in a group. | L8: =IF(D8="x",1,"") | M8: =IF(E8="x",2,"") | N8: =IF(F8="x",3,"") | O8: =IF(G8="x",4,"") | P8: =IF(SUM(L8:O8)=0,"",SUM(L8:O8)) | Q8: =AVERAGE(P8,P25,P42,P59,P76,P93,P110,P127,P144,P161,P178,P195,P212,P229,P246,P263,P280,P297,P314,P331,P348,P365,P382,P399,P416,P433,P450,P467,P484,P501,P518,P535) -> #DIV/0!
B9: Q7 | C9: I like to share my ideas with other people in a group. | L9: =IF(D9="x",1,"") | M9: =IF(E9="x",2,"") | N9: =IF(F9="x",3,"") | O9: =IF(G9="x",4,"") | P9: =IF(SUM(L9:O9)=0,"",SUM(L9:O9)) | Q9: =AVERAGE(P9,P26,P43,P60,P77,P94,P111,P128,P145,P162,P179,P196,P213,P230,P247,P264,P281,P298,P315,P332,P349,P366,P383,P400,P417,P434,P451,P468,P485,P502,P519,P536) -> #DIV/0!
B10: Q8 | C10: When I work in a team I try out different jobs. | L10: =IF(D10="x",1,"") | M10: =IF(E10="x",2,"") | N10: =IF(F10="x",3,"") | O10: =IF(G10="x",4,"") | P10: =IF(SUM(L10:O10)=0,"",SUM(L10:O10)) | Q10: =AVERAGE(P10,P27,P44,P61,P78,P95,P112,P129,P146,P163,P180,P197,P214,P231,P248,P265,P282,P299,P316,P333,P350,P367,P384,P401,P418,P435,P452,P469,P486,P503,P520,P537) -> #DIV/0!
B11: Q9 | C11: When I work in a team I help others to work out what we have to do. | L11: =IF(D11="x",1,"") | M11: =IF(E11="x",2,"") | N11: =IF(F11="x",3,"") | O11: =IF(G11="x",4,"") | P11: =IF(SUM(L11:O11)=0,"",SUM(L11:O11)) | Q11: =AVERAGE(P11,P28,P45,P62,P79,P96,P113,P130,P147,P164,P181,P198,P215,P232,P249,P266,P283,P300,P317,P334,P351,P368,P385,P402,P419,P436,P453,P470,P487,P504,P521,P538) -> #DIV/0!
B12: Q10 | C12: When we have finished a team task I think about how I have helped the team to succeed. | L12: =IF(D12="x",1,"") | M12: =IF(E12="x",2,"") | N12: =IF(F12="x",3,"") | O12: =IF(G12="x",4,"") | P12: =IF(SUM(L12:O12)=0,"",SUM(L12:O12)) | Q12: =AVERAGE(P12,P29,P46,P63,P80,P97,P114,P131,P148,P165,P182,P199,P216,P233,P250,P267,P284,P301,P318,P335,P352,P369,P386,P403,P420,P437,P454,P471,P488,P505,P522,P539) -> #DIV/0!
B13: Q11 | C13: If I want to know something I turn it into a question. | L13: =IF(D13="x",1,"") | M13: =IF(E13="x",2,"") | N13: =IF(F13="x",3,"") | O13: =IF(G13="x",4,"") | P13: =IF(SUM(L13:O13)=0,"",SUM(L13:O13)) | Q13: =AVERAGE(P13,P30,P47,P64,P81,P98,P115,P132,P149,P166,P183,P200,P217,P234,P251,P268,P285,P302,P319,P336,P353,P370,P387,P404,P421,P438,P455,P472,P489,P506,P523,P540) -> #DIV/0!
B14: Q12 | C14: I use a book index to help me find information. | L14: =IF(D14="x",1,"") | M14: =IF(E14="x",2,"") | N14: =IF(F14="x",3,"") | O14: =IF(G14="x",4,"") | P14: =IF(SUM(L14:O14)=0,"",SUM(L14:O14)) | Q14: =AVERAGE(P14,P31,P48,P65,P82,P99,P116,P133,P150,P167,P184,P201,P218,P235,P252,P269,P286,P303,P320,P337,P354,P371,P388,P405,P422,P439,P456,P473,P490,P507,P524,P541) -> #DIV/0!
B15: Q13 | C15: I ask myself lots of questions when I am finding out information. | L15: =IF(D15="x",1,"") | M15: =IF(E15="x",2,"") | N15: =IF(F15="x",3,"") | O15: =IF(G15="x",4,"") | P15: =IF(SUM(L15:O15)=0,"",SUM(L15:O15)) | Q15: =AVERAGE(P15,P32,P49,P66,P83,P100,P117,P134,P151,P168,P185,P202,P219,P236,P253,P270,P287,P304,P321,P338,P355,P372,P389,P406,P423,P440,P457,P474,P491,P508,P525,P542) -> #DIV/0!
B16: Q14 | C16: I can tell the difference between open and closed questions. | L16: =IF(D16="x",1,"") | M16: =IF(E16="x",2,"") | N16: =IF(F16="x",3,"") | O16: =IF(G16="x",4,"") | P16: =IF(SUM(L16:O16)=0,"",SUM(L16:O16)) | Q16: =AVERAGE(P16,P33,P50,P67,P84,P101,P118,P135,P152,P169,P186,P203,P220,P237,P254,P271,P288,P305,P322,P339,P356,P373,P390,P407,P424,P441,P458,P475,P492,P509,P526,P543) -> #DIV/0!
B17: Q15 | C17: I am not afraid of asking questions in my class. | L17: =IF(D17="x",1,"") | M17: =IF(E17="x",2,"") | N17: =IF(F17="x",3,"") | O17: =IF(G17="x",4,"") | P17: =IF(SUM(L17:O17)=0,"",SUM(L17:O17)) | Q17: =AVERAGE(P17,P34,P51,P68,P85,P102,P119,P136,P153,P170,P187,P204,P221,P238,P255,P272,P289,P306,P323,P340,P357,P374,P391,P408,P425,P442,P459,P476,P493,P510,P527,P544) -> #DIV/0!
A18: Pupil 2
B19: Name: | C19: [Pupil 2] | D19: (1) I'm rarely like this | E19: (2) I'm sometimes like this | F19: (3) I'm quite often like this | G19: (4) I'm usually like this | L19: 1 | M19: 2 | N19: 3 | O19: 4 | P19: Answer | Q19: Average for question
B20: Q1 | C20: =C$3 -> I think being stuck is an intresting place to be | I20: Answer with an ' x '. One per question | L20: =IF(D20="x",1,"") | M20: =IF(E20="x",2,"") | N20: =IF(F20="x",3,"") | O20: =IF(G20="x",4,"") | P20: =IF(SUM(L20:O20)=0,"",SUM(L20:O20))
B21: Q2 | C21: =C$4 -> I get myself unstuck in lots of different ways. | L21: =IF(D21="x",1,"") | M21: =IF(E21="x",2,"") | N21: =IF(F21="x",3,"") | O21: =IF(G21="x",4,"") | P21: =IF(SUM(L21:O21)=0,"",SUM(L21:O21))
B22: Q3 | C22: =C$5 -> I know what to do when I get distracted in the classroom. | L22: =IF(D22="x",1,"") | M22: =IF(E22="x",2,"") | N22: =IF(F22="x",3,"") | O22: =IF(G22="x",4,"") | P22: =IF(SUM(L22:O22)=0,"",SUM(L22:O22))
B23: Q4 | C23: =C$6 -> I like to try challenging (hard) activities. | L23: =IF(D23="x",1,"") | M23: =IF(E23="x",2,"") | N23: =IF(F23="x",3,"") | O23: =IF(G23="x",4,"") | P23: =IF(SUM(L23:O23)=0,"",SUM(L23:O23))
B24: Q5 | C24: =C$7 -> Before I start something I think about what it will look like when it's finished. | L24: =IF(D24="x",1,"") | M24: =IF(E24="x",2,"") | N24: =IF(F24="x",3,"") | O24: =IF(G24="x",4,"") | P24: =IF(SUM(L24:O24)=0,"",SUM(L24:O24))
B25: Q6 | C25: =C$8 -> I listen carefully when I'm learning in a group. | L25: =IF(D25="x",1,"") | M25: =IF(E25="x",2,"") | N25: =IF(F25="x",3,"") | O25: =IF(G25="x",4,"") | P25: =IF(SUM(L25:O25)=0,"",SUM(L25:O25))
B26: Q7 | C26: =C$9 -> I like to share my ideas with other people in a group. | L26: =IF(D26="x",1,"") | M26: =IF(E26="x",2,"") | N26: =IF(F26="x",3,"") | O26: =IF(G26="x",4,"") | P26: =IF(SUM(L26:O26)=0,"",SUM(L26:O26))
B27: Q8 | C27: =C$10 -> When I work in a team I try out different jobs. | L27: =IF(D27="x",1,"") | M27: =IF(E27="x",2,"") | N27: =IF(F27="x",3,"") | O27: =IF(G27="x",4,"") | P27: =IF(SUM(L27:O27)=0,"",SUM(L27:O27))
B28: Q9 | C28: =C$11 -> When I work in a team I help others to work out what we have to do. | L28: =IF(D28="x",1,"") | M28: =IF(E28="x",2,"") | N28: =IF(F28="x",3,"") | O28: =IF(G28="x",4,"") | P28: =IF(SUM(L28:O28)=0,"",SUM(L28:O28))
B29: Q10 | C29: =C$12 -> When we have finished a team task I think about how I have helped the team to succeed. | L29: =IF(D29="x",1,"") | M29: =IF(E29="x",2,"") | N29: =IF(F29="x",3,"") | O29: =IF(G29="x",4,"") | P29: =IF(SUM(L29:O29)=0,"",SUM(L29:O29))
B30: Q11 | C30: =C$13 -> If I want to know something I turn it into a question. | L30: =IF(D30="x",1,"") | M30: =IF(E30="x",2,"") | N30: =IF(F30="x",3,"") | O30: =IF(G30="x",4,"") | P30: =IF(SUM(L30:O30)=0,"",SUM(L30:O30))
B31: Q12 | C31: =C$14 -> I use a book index to help me find information. | L31: =IF(D31="x",1,"") | M31: =IF(E31="x",2,"") | N31: =IF(F31="x",3,"") | O31: =IF(G31="x",4,"") | P31: =IF(SUM(L31:O31)=0,"",SUM(L31:O31))
B32: Q13 | C32: =C$15 -> I ask myself lots of questions when I am finding out information. | L32: =IF(D32="x",1,"") | M32: =IF(E32="x",2,"") | N32: =IF(F32="x",3,"") | O32: =IF(G32="x",4,"") | P32: =IF(SUM(L32:O32)=0,"",SUM(L32:O32))
B33: Q14 | C33: =C$16 -> I can tell the difference between open and closed questions. | L33: =IF(D33="x",1,"") | M33: =IF(E33="x",2,"") | N33: =IF(F33="x",3,"") | O33: =IF(G33="x",4,"") | P33: =IF(SUM(L33:O33)=0,"",SUM(L33:O33))
B34: Q15 | C34: =C$17 -> I am not afraid of asking questions in my class. | L34: =IF(D34="x",1,"") | M34: =IF(E34="x",2,"") | N34: =IF(F34="x",3,"") | O34: =IF(G34="x",4,"") | P34: =IF(SUM(L34:O34)=0,"",SUM(L34:O34))
A35: Pupil 3
B36: Name: | C36: [Pupil 3] | D36: (1) I'm rarely like this | E36: (2) I'm sometimes like this | F36: (3) I'm quite often like this | G36: (4) I'm usually like this | L36: 1 | M36: 2 | N36: 3 | O36: 4 | P36: Answer | Q36: Average for question
B37: Q1 | C37: =C$3 -> I think being stuck is an intresting place to be | I37: Answer with an ' x '. One per question | L37: =IF(D37="x",1,"") | M37: =IF(E37="x",2,"") | N37: =IF(F37="x",3,"") | O37: =IF(G37="x",4,"") | P37: =IF(SUM(L37:O37)=0,"",SUM(L37:O37))
B38: Q2 | C38: =C$4 -> I get myself unstuck in lots of different ways. | L38: =IF(D38="x",1,"") | M38: =IF(E38="x",2,"") | N38: =IF(F38="x",3,"") | O38: =IF(G38="x",4,"") | P38: =IF(SUM(L38:O38)=0,"",SUM(L38:O38))
B39: Q3 | C39: =C$5 -> I know what to do when I get distracted in the classroom. | L39: =IF(D39="x",1,"") | M39: =IF(E39="x",2,"") | N39: =IF(F39="x",3,"") | O39: =IF(G39="x",4,"") | P39: =IF(SUM(L39:O39)=0,"",SUM(L39:O39))
B40: Q4 | C40: =C$6 -> I like to try challenging (hard) activities. | L40: =IF(D40="x",1,"") | M40: =IF(E40="x",2,"") | N40: =IF(F40="x",3,"") | O40: =IF(G40="x",4,"") | P40: =IF(SUM(L40:O40)=0,"",SUM(L40:O40))
...

Sheet Summary_Sheet
A1: Question # | B1: Question subject | C1: Teacher's answers - Teacher Action Review Tool 1 | D1: Pupils' answers (average) - Pupil Reaction Review tool 1
A2: Q1. | B2: Stuckness: Is interesting | C2: =Teacher_Survey!P3 | D2: =Pupil_Survey!Q3 -> #DIV/0!
A3: Q2. | B3: Stuckness: Strategies to keep going | C3: =Teacher_Survey!P4 | D3: =Pupil_Survey!Q4 -> #DIV/0!
A4: Q3. | B4: Managing distractions: Understanding distraction | C4: =Teacher_Survey!P5 | D4: =Pupil_Survey!Q5 -> #DIV/0!
A5: Q4. | B5: Dealing in challenge | C5: =Teacher_Survey!P6 | D5: =Pupil_Survey!Q6 -> #DIV/0!
A6: Q5. | B6: Goal orientation: Visualising ends | C6: =Teacher_Survey!P7 | D6: =Pupil_Survey!Q7 -> #DIV/0!
A7: Q6. | B7: Social interaction: Turns & listening | C7: =Teacher_Survey!P8 | D7: =Pupil_Survey!Q8 -> #DIV/0!
A8: Q7. | B8: Building ideas: Sharing their own | C8: =Teacher_Survey!P9 | D8: =Pupil_Survey!Q9 -> #DIV/0!
A9: Q8. | B9: Working as a team: Trying different roles | C9: =Teacher_Survey!P10 | D9: =Pupil_Survey!Q10 -> #DIV/0!
A10: Q9. | B10: Getting the job done: Identifying goals | C10: =Teacher_Survey!P11 | D10: =Pupil_Survey!Q11 -> #DIV/0!
A11: Q10. | B11: Reviewing action: Assess own contribution | C11: =Teacher_Survey!P12 | D11: =Pupil_Survey!Q12 -> #DIV/0!
A12: Q11. | B12: Attentiveness: Freedom to question | C12: =Teacher_Survey!P13 | D12: =Pupil_Survey!Q13 -> #DIV/0!
A13: Q12. | B13: Search skills: early tools: Using questions purposefully | C13: =Teacher_Survey!P14 | D13: =Pupil_Survey!Q14 -> #DIV/0!
... A16: Q15. | B16: The art of asking: Overcoming a fear of questioning | C16: =Teacher_Survey!P17 | D16: =Pupil_Survey!Q17 -> #DIV/0!

Sheet Pupil data
A1: Question # | B1: Question subject | C1: Name | D1: Pupil 1 | E1: Pupil 2 | F1: Pupil 3 | G1: Pupil 4 | H1: Pupil 5 | I1: Pupil 6 | J1: Pupil 7 | K1: Pupil 8 | L1: Pupil 9 | M1: Pupil 10 | N1: Pupil 11 | O1: Pupil 12 | P1: Pupil 13 | Q1: Pupil 14 | R1: Pupil 15 | S1: Pupil 16 | T1: Pupil 17 | U1: Pupil 18 | V1: Pupil 19 | W1: Pupil 20 | X1: Pupil 21 | Y1: Pupil 22 | Z1: Pupil 23 | AA1: Pupil 24 | AB1: Pupil 25 | AC1: Pupil 26 | AD1: Pupil 27 | AE1: Pupil 28 | AF1: Pupil 29 | AG1: Pupil 30 | AH1: Pupil 31 | AI1: Pupil 32
C2: Teacher | D2: =Pupil_Survey!C2 -> [Pupil 1] | E2: =Pupil_Survey!C19 -> [Pupil 2] | F2: =Pupil_Survey!C36 -> [Pupil 3] | G2: =Pupil_Survey!C53 -> [Pupil 4] | H2: =Pupil_Survey!C70 -> [Pupil 5] | I2: =Pupil_Survey!C87 -> [Pupil 6] | J2: =Pupil_Survey!C104 -> [Pupil 7] | K2: =Pupil_Survey!C121 -> [Pupil 8] | L2: =Pupil_Survey!C138 -> [Pupil 9] | M2: =Pupil_Survey!C155 -> [Pupil 10] | N2: =Pupil_Survey!C172 -> [Pupil 11] | O2: =Pupil_Survey!C189 -> [Pupil 12] | P2: =Pupil_Survey!C206 -> [Pupil 13] | Q2: =Pupil_Survey!C223 -> [Pupil 14] | R2: =Pupil_Survey!C240 -> [Pupil 15] | S2: =Pupil_Survey!C257 -> [Pupil 16] | T2: =Pupil_Survey!C274 -> [Pupil 17] | U2: =Pupil_Survey!C291 -> [Pupil 18] | V2: =Pupil_Survey!C308 -> [Pupil 19] | W2: =Pupil_Survey!C325 -> [Pupil 20] | X2: =Pupil_Survey!C342 -> [Pupil 21] | Y2: =Pupil_Survey!C359 -> [Pupil 22] | Z2: =Pupil_Survey!C376 -> [Pupil 23] | AA2: =Pupil_Survey!C393 -> [Pupil 24] | AB2: =Pupil_Survey!C410 -> [Pupil 25] | AC2: =Pupil_Survey!C427 -> [Pupil 26] | AD2: =Pupil_Survey!C444 -> [Pupil 27] | AE2: =Pupil_Survey!C461 -> [Pupil 28] | AF2: =Pupil_Survey!C478 -> [Pupil 29] | AG2: =Pupil_Survey!C495 -> [Pupil 30] | AH2: =Pupil_Survey!C512 -> [Pupil 31] | AI2: =Pupil_Survey!C529 -> [Pupil 32]
A3: =Summary_Sheet!A2 -> Q1. | B3: =Summary_Sheet!B2 -> Stuckness: Is interesting | C3: =Summary_Sheet!C2 | D3: =Pupil_Survey!P3 | E3: =Pupil_Survey!P20 | F3: =Pupil_Survey!P37 | G3: =Pupil_Survey!P54 | H3: =Pupil_Survey!P71 | I3: =Pupil_Survey!P88 | J3: =Pupil_Survey!P105 | K3: =Pupil_Survey!P122 | L3: =Pupil_Survey!P139 | M3: =Pupil_Survey!P156 | N3: =Pupil_Survey!P173 | O3: =Pupil_Survey!P190 | P3: =Pupil_Survey!P207 | Q3: =Pupil_Survey!P224 | R3: =Pupil_Survey!P241 | S3: =Pupil_Survey!P258 | T3: =Pupil_Survey!P275 | U3: =Pupil_Survey!P292 | V3: =Pupil_Survey!P309 | W3: =Pupil_Survey!P326 | X3: =Pupil_Survey!P343 | Y3: =Pupil_Survey!P360 | Z3: =Pupil_Survey!P377 | AA3: =Pupil_Survey!P394 | AB3: =Pupil_Survey!P411 | AC3: =Pupil_Survey!P428 | AD3: =Pupil_Survey!P445 | AE3: =Pupil_Survey!P462 | AF3: =Pupil_Survey!P479 | AG3: =Pupil_Survey!P496 | AH3: =Pupil_Survey!P513 | AI3: =Pupil_Survey!P530
A4: =Summary_Sheet!A3 -> Q2. | B4: =Summary_Sheet!B3 -> Stuckness: Strategies to keep going | C4: =Summary_Sheet!C3 | D4: =Pupil_Survey!P4 | E4: =Pupil_Survey!P21 | F4: =Pupil_Survey!P38 | G4: =Pupil_Survey!P55 | H4: =Pupil_Survey!P72 | I4: =Pupil_Survey!P89 | J4: =Pupil_Survey!P106 | K4: =Pupil_Survey!P123 | L4: =Pupil_Survey!P140 | M4: =Pupil_Survey!P157 | N4: =Pupil_Survey!P174 | O4: =Pupil_Survey!P191 | P4: =Pupil_Survey!P208 | Q4: =Pupil_Survey!P225 | R4: =Pupil_Survey!P242 | S4: =Pupil_Survey!P259 | T4: =Pupil_Survey!P276 | U4: =Pupil_Survey!P293 | V4: =Pupil_Survey!P310 | W4: =Pupil_Survey!P327 | X4: =Pupil_Survey!P344 | Y4: =Pupil_Survey!P361 | Z4: =Pupil_Survey!P378 | AA4: =Pupil_Survey!P395 | AB4: =Pupil_Survey!P412 | AC4: =Pupil_Survey!P429 | AD4: =Pupil_Survey!P446 | AE4: =Pupil_Survey!P463 | AF4: =Pupil_Survey!P480 | AG4: =Pupil_Survey!P497 | AH4: =Pupil_Survey!P514 | AI4: =Pupil_Survey!P531
A5: =Summary_Sheet!A4 -> Q3. | B5: =Summary_Sheet!B4 -> Managing distractions: Understanding distraction | C5: =Summary_Sheet!C4 | D5: =Pupil_Survey!P5 | E5: =Pupil_Survey!P22 | F5: =Pupil_Survey!P39 | G5: =Pupil_Survey!P56 | H5: =Pupil_Survey!P73 | I5: =Pupil_Survey!P90 | J5: =Pupil_Survey!P107 | K5: =Pupil_Survey!P124 | L5: =Pupil_Survey!P141 | M5: =Pupil_Survey!P158 | N5: =Pupil_Survey!P175 | O5: =Pupil_Survey!P192 | P5: =Pupil_Survey!P209 | Q5: =Pupil_Survey!P226 | R5: =Pupil_Survey!P243 | S5: =Pupil_Survey!P260 | T5: =Pupil_Survey!P277 | U5: =Pupil_Survey!P294 | V5: =Pupil_Survey!P311 | W5: =Pupil_Survey!P328 | X5: =Pupil_Survey!P345 | Y5: =Pupil_Survey!P362 | Z5: =Pupil_Survey!P379 | AA5: =Pupil_Survey!P396 | AB5: =Pupil_Survey!P413 | AC5: =Pupil_Survey!P430 | AD5: =Pupil_Survey!P447 | AE5: =Pupil_Survey!P464 | AF5: =Pupil_Survey!P481 | AG5: =Pupil_Survey!P498 | AH5: =Pupil_Survey!P515 | AI5: =Pupil_Survey!P532
A6: =Summary_Sheet!A5 -> Q4. | B6: =Summary_Sheet!B5 -> Dealing in challenge | C6: =Summary_Sheet!C5 | D6: =Pupil_Survey!P6 | E6: =Pupil_Survey!P23 | F6: =Pupil_Survey!P40 | G6: =Pupil_Survey!P57 | H6: =Pupil_Survey!P74 | I6: =Pupil_Survey!P91 | J6: =Pupil_Survey!P108 | K6: =Pupil_Survey!P125 | L6: =Pupil_Survey!P142 | M6: =Pupil_Survey!P159 | N6: =Pupil_Survey!P176 | O6: =Pupil_Survey!P193 | P6: =Pupil_Survey!P210 | Q6: =Pupil_Survey!P227 | R6: =Pupil_Survey!P244 | S6: =Pupil_Survey!P261 | T6: =Pupil_Survey!P278 | U6: =Pupil_Survey!P295 | V6: =Pupil_Survey!P312 | W6: =Pupil_Survey!P329 | X6: =Pupil_Survey!P346 | Y6: =Pupil_Survey!P363 | Z6: =Pupil_Survey!P380 | AA6: =Pupil_Survey!P397 | AB6: =Pupil_Survey!P414 | AC6: =Pupil_Survey!P431 | AD6: =Pupil_Survey!P448 | AE6: =Pupil_Survey!P465 | AF6: =Pupil_Survey!P482 | AG6: =Pupil_Survey!P499 | AH6: =Pupil_Survey!P516 | AI6: =Pupil_Survey!P533
A7: =Summary_Sheet!A6 -> Q5. | B7: =Summary_Sheet!B6 -> Goal orientation: Visualising ends | C7: =Summary_Sheet!C6 | D7: =Pupil_Survey!P7 | E7: =Pupil_Survey!P24 | F7: =Pupil_Survey!P41 | G7: =Pupil_Survey!P58 | H7: =Pupil_Survey!P75 | I7: =Pupil_Survey!P92 | J7: =Pupil_Survey!P109 | K7: =Pupil_Survey!P126 | L7: =Pupil_Survey!P143 | M7: =Pupil_Survey!P160 | N7: =Pupil_Survey!P177 | O7: =Pupil_Survey!P194 | P7: =Pupil_Survey!P211 | Q7: =Pupil_Survey!P228 | R7: =Pupil_Survey!P245 | S7: =Pupil_Survey!P262 | T7: =Pupil_Survey!P279 | U7: =Pupil_Survey!P296 | V7: =Pupil_Survey!P313 | W7: =Pupil_Survey!P330 | X7: =Pupil_Survey!P347 | Y7: =Pupil_Survey!P364 | Z7: =Pupil_Survey!P381 | AA7: =Pupil_Survey!P398 | AB7: =Pupil_Survey!P415 | AC7: =Pupil_Survey!P432 | AD7: =Pupil_Survey!P449 | AE7: =Pupil_Survey!P466 | AF7: =Pupil_Survey!P483 | AG7: =Pupil_Survey!P500 | AH7: =Pupil_Survey!P517 | AI7: =Pupil_Survey!P534
A8: Perseverance Questions (Average) | C8: =AVERAGE(C3:C7) -> #DIV/0! | D8: =AVERAGE(D3:D7) -> #DIV/0! | E8: =AVERAGE(E3:E7) -> #DIV/0! | F8: =AVERAGE(F3:F7) -> #DIV/0! | G8: =AVERAGE(G3:G7) -> #DIV/0! | H8: =AVERAGE(H3:H7) -> #DIV/0! | I8: =AVERAGE(I3:I7) -> #DIV/0! | J8: =AVERAGE(J3:J7) -> #DIV/0! | ... AI8: =AVERAGE(AI3:AI7) -> #DIV/0!
A10: =Summary_Sheet!A7 -> Q6. | B10: =Summary_Sheet!B7 -> Social interaction: Turns & listening | C10: =Summary_Sheet!C7 | D10: =Pupil_Survey!P8 | E10: =Pupil_Survey!P25 | F10: =Pupil_Survey!P42 | G10: =Pupil_Survey!P59 | H10: =Pupil_Survey!P76 | I10: =Pupil_Survey!P93 | J10: =Pupil_Survey!P110 | K10: =Pupil_Survey!P127 | L10: =Pupil_Survey!P144 | M10: =Pupil_Survey!P161 | N10: =Pupil_Survey!P178 | O10: =Pupil_Survey!P195 | P10: =Pupil_Survey!P212 | Q10: =Pupil_Survey!P229 | R10: =Pupil_Survey!P246 | S10: =Pupil_Survey!P263 | T10: =Pupil_Survey!P280 | U10: =Pupil_Survey!P297 | V10: =Pupil_Survey!P314 | W10: =Pupil_Survey!P331 | X10: =Pupil_Survey!P348 | Y10: =Pupil_Survey!P365 | Z10: =Pupil_Survey!P382 | AA10: =Pupil_Survey!P399 | AB10: =Pupil_Survey!P416 | AC10: =Pupil_Survey!P433 | AD10: =Pupil_Survey!P450 | AE10: =Pupil_Survey!P467 | AF10: =Pupil_Survey!P484 | AG10: =Pupil_Survey!P501 | AH10: =Pupil_Survey!P518 | AI10: =Pupil_Survey!P535
A11: =Summary_Sheet!A8 -> Q7. | B11: =Summary_Sheet!B8 -> Building ideas: Sharing their own | C11: =Summary_Sheet!C8 | D11: =Pupil_Survey!P9 | E11: =Pupil_Survey!P26 | F11: =Pupil_Survey!P43 | G11: =Pupil_Survey!P60 | H11: =Pupil_Survey!P77 | I11: =Pupil_Survey!P94 | J11: =Pupil_Survey!P111 | K11: =Pupil_Survey!P128 | L11: =Pupil_Survey!P145 | M11: =Pupil_Survey!P162 | N11: =Pupil_Survey!P179 | O11: =Pupil_Survey!P196 | P11: =Pupil_Survey!P213 | Q11: =Pupil_Survey!P230 | R11: =Pupil_Survey!P247 | S11: =Pupil_Survey!P264 | T11: =Pupil_Survey!P281 | U11: =Pupil_Survey!P298 | V11: =Pupil_Survey!P315 | W11: =Pupil_Survey!P332 | X11: =Pupil_Survey!P349 | Y11: =Pupil_Survey!P366 | Z11: =Pupil_Survey!P383 | AA11: =Pupil_Survey!P400 | AB11: =Pupil_Survey!P417 | AC11: =Pupil_Survey!P434 | AD11: =Pupil_Survey!P451 | AE11: =Pupil_Survey!P468 | AF11: =Pupil_Survey!P485 | AG11: =Pupil_Survey!P502 | AH11: =Pupil_Survey!P519 | AI11: =Pupil_Survey!P536
A12: =Summary_Sheet!A9 -> Q8. | B12: =Summary_Sheet!B9 -> Working as a team: Trying different roles | C12: =Summary_Sheet!C9 | D12: =Pupil_Survey!P10 | E12: =Pupil_Survey!P27 | F12: =Pupil_Survey!P44 | G12: =Pupil_Survey!P61 | H12: =Pupil_Survey!P78 | I12: =Pupil_Survey!P95 | J12: =Pupil_Survey!P112 | K12: =Pupil_Survey!P129 | L12: =Pupil_Survey!P146 | M12: =Pupil_Survey!P163 | N12: =Pupil_Survey!P180 | O12: =Pupil_Survey!P197 | P12: =Pupil_Survey!P214 | Q12: =Pupil_Survey!P231 | R12: =Pupil_Survey!P248 | S12: =Pupil_Survey!P265 | T12: =Pupil_Survey!P282 | U12: =Pupil_Survey!P299 | V12: =Pupil_Survey!P316 | W12: =Pupil_Survey!P333 | X12: =Pupil_Survey!P350 | Y12: =Pupil_Survey!P367 | Z12: =Pupil_Survey!P384 | AA12: =Pupil_Survey!P401 | AB12: =Pupil_Survey!P418 | AC12: =Pupil_Survey!P435 | AD12: =Pupil_Survey!P452 | AE12: =Pupil_Survey!P469 | AF12: =Pupil_Survey!P486 | AG12: =Pupil_Survey!P503 | AH12: =Pupil_Survey!P520 | AI12: =Pupil_Survey!P537
A13: =Summary_Sheet!A10 -> Q9. | B13: =Summary_Sheet!B10 -> Getting the job done: Identifying goals | C13: =Summary_Sheet!C10 | D13: =Pupil_Survey!P11 | E13: =Pupil_Survey!P28 | F13: =Pupil_Survey!P45 | G13: =Pupil_Survey!P62 | H13: =Pupil_Survey!P79 | I13: =Pupil_Survey!P96 | J13: =Pupil_Survey!P113 | K13: =Pupil_Survey!P130 | L13: =Pupil_Survey!P147 | M13: =Pupil_Survey!P164 | N13: =Pupil_Survey!P181 | O13: =Pupil_Survey!P198 | P13: =Pupil_Survey!P215 | Q13: =Pupil_Survey!P232 | R13: =Pupil_Survey!P249 | S13: =Pupil_Survey!P266 | T13: =Pupil_Survey!P283 | U13: =Pupil_Survey!P300 | V13: =Pupil_Survey!P317 | W13: =Pupil_Survey!P334 | X13: =Pupil_Survey!P351 | Y13: =Pupil_Survey!P368 | Z13: =Pupil_Survey!P385 | AA13: =Pupil_Survey!P402 | AB13: =Pupil_Survey!P419 | AC13: =Pupil_Survey!P436 | AD13: =Pupil_Survey!P453 | AE13: =Pupil_Survey!P470 | AF13: =Pupil_Survey!P487 | AG13: =Pupil_Survey!P504 | AH13: =Pupil_Survey!P521 | AI13: =Pupil_Survey!P538
A14: =Summary_Sheet!A11 -> Q10. | B14: =Summary_Sheet!B11 -> Reviewing action: Assess own contribution | C14: =Summary_Sheet!C11 | D14: =Pupil_Survey!P12 | E14: =Pupil_Survey!P29 | F14: =Pupil_Survey!P46 | G14: =Pupil_Survey!P63 | H14: =Pupil_Survey!P80 | I14: =Pupil_Survey!P97 | J14: =Pupil_Survey!P114 | K14: =Pupil_Survey!P131 | L14: =Pupil_Survey!P148 | M14: =Pupil_Survey!P165 | N14: =Pupil_Survey!P182 | O14: =Pupil_Survey!P199 | P14: =Pupil_Survey!P216 | Q14: =Pupil_Survey!P233 | R14: =Pupil_Survey!P250 | S14: =Pupil_Survey!P267 | T14: =Pupil_Survey!P284 | U14: =Pupil_Survey!P301 | V14: =Pupil_Survey!P318 | W14: =Pupil_Survey!P335 | X14: =Pupil_Survey!P352 | Y14: =Pupil_Survey!P369 | Z14: =Pupil_Survey!P386 | AA14: =Pupil_Survey!P403 | AB14: =Pupil_Survey!P420 | AC14: =Pupil_Survey!P437 | AD14: =Pupil_Survey!P454 | AE14: =Pupil_Survey!P471 | AF14: =Pupil_Survey!P488 | AG14: =Pupil_Survey!P505 | AH14: =Pupil_Survey!P522 | AI14: =Pupil_Survey!P539
A15: Collaboration Questions (Average) | C15: =AVERAGE(C10:C14) -> #DIV/0! | D15: =AVERAGE(D10:D14) -> #DIV/0! | E15: =AVERAGE(E10:E14) -> #DIV/0! | F15: =AVERAGE(F10:F14) -> #DIV/0! | G15: =AVERAGE(G10:G14) -> #DIV/0! | H15: =AVERAGE(H10:H14) -> #DIV/0! | I15: =AVERAGE(I10:I14) -> #DIV/0! | J15: =AVERAGE(J10:J14) -> #DIV/0! | ... AI15: =AVERAGE(AI10:AI14) -> #DIV/0!
A17: =Summary_Sheet!A12 -> Q11. | B17: =Summary_Sheet!B12 -> Attentiveness: Freedom to question | C17: =Summary_Sheet!C12 | D17: =Pupil_Survey!P13 | E17: =Pupil_Survey!P30 | F17: =Pupil_Survey!P47 | G17: =Pupil_Survey!P64 | H17: =Pupil_Survey!P81 | I17: =Pupil_Survey!P98 | J17: =Pupil_Survey!P115 | K17: =Pupil_Survey!P132 | L17: =Pupil_Survey!P149 | M17: =Pupil_Survey!P166 | N17: =Pupil_Survey!P183 | O17: =Pupil_Survey!P200 | P17: =Pupil_Survey!P217 | Q17: =Pupil_Survey!P234 | R17: =Pupil_Survey!P251 | S17: =Pupil_Survey!P268 | T17: =Pupil_Survey!P285 | U17: =Pupil_Survey!P302 | V17: =Pupil_Survey!P319 | W17: =Pupil_Survey!P336 | X17: =Pupil_Survey!P353 | Y17: =Pupil_Survey!P370 | Z17: =Pupil_Survey!P387 | AA17: =Pupil_Survey!P404 | AB17: =Pupil_Survey!P421 | AC17: =Pupil_Survey!P438 | AD17: =Pupil_Survey!P455 | AE17: =Pupil_Survey!P472 | AF17: =Pupil_Survey!P489 | AG17: =Pupil_Survey!P506 | AH17: =Pupil_Survey!P523 | AI17: =Pupil_Survey!P540
A18: =Summary_Sheet!A13 -> Q12. | B18: =Summary_Sheet!B13 -> Search skills: early tools: Using questions purposefully | C18: =Summary_Sheet!C13 | D18: =Pupil_Survey!P14 | E18: =Pupil_Survey!P31 | F18: =Pupil_Survey!P48 | G18: =Pupil_Survey!P65 | H18: =Pupil_Survey!P82 | I18: =Pupil_Survey!P99 | J18: =Pupil_Survey!P116 | K18: =Pupil_Survey!P133 | L18: =Pupil_Survey!P150 | M18: =Pupil_Survey!P167 | N18: =Pupil_Survey!P184 | O18: =Pupil_Survey!P201 | P18: =Pupil_Survey!P218 | Q18: =Pupil_Survey!P235 | R18: =Pupil_Survey!P252 | S18: =Pupil_Survey!P269 | T18: =Pupil_Survey!P286 | U18: =Pupil_Survey!P303 | V18: =Pupil_Survey!P320 | W18: =Pupil_Survey!P337 | X18: =Pupil_Survey!P354 | Y18: =Pupil_Survey!P371 | Z18: =Pupil_Survey!P388 | AA18: =Pupil_Survey!P405 | AB18: =Pupil_Survey!P422 | AC18: =Pupil_Survey!P439 | AD18: =Pupil_Survey!P456 | AE18: =Pupil_Survey!P473 | AF18: =Pupil_Survey!P490 | AG18: =Pupil_Survey!P507 | AH18: =Pupil_Survey!P524 | AI18: =Pupil_Survey!P541
A19: =Summary_Sheet!A14 -> Q13. | B19: =Summary_Sheet!B14 -> Divergent questioning: Finding detail | C19: =Summary_Sheet!C14 | D19: =Pupil_Survey!P15 | E19: =Pupil_Survey!P32 | F19: =Pupil_Survey!P49 | G19: =Pupil_Survey!P66 | H19: =Pupil_Survey!P83 | I19: =Pupil_Survey!P100 | J19: =Pupil_Survey!P117 | K19: =Pupil_Survey!P134 | L19: =Pupil_Survey!P151 | M19: =Pupil_Survey!P168 | N19: =Pupil_Survey!P185 | O19: =Pupil_Survey!P202 | P19: =Pupil_Survey!P219 | Q19: =Pupil_Survey!P236 | R19: =Pupil_Survey!P253 | S19: =Pupil_Survey!P270 | T19: =Pupil_Survey!P287 | U19: =Pupil_Survey!P304 | V19: =Pupil_Survey!P321 | W19: =Pupil_Survey!P338 | X19: =Pupil_Survey!P355 | Y19: =Pupil_Survey!P372 | Z19: =Pupil_Survey!P389 | AA19: =Pupil_Survey!P406 | AB19: =Pupil_Survey!P423 | AC19: =Pupil_Survey!P440 | AD19: =Pupil_Survey!P457 | AE19: =Pupil_Survey!P474 | AF19: =Pupil_Survey!P491 | AG19: =Pupil_Survey!P508 | AH19: =Pupil_Survey!P525 | AI19: =Pupil_Survey!P542
A20: =Summary_Sheet!A15 -> Q14. | B20: =Summary_Sheet!B15 -> Convergent questioning: Open possibilities | C20: =Summary_Sheet!C15 | D20: =Pupil_Survey!P16 | E20: =Pupil_Survey!P33 | F20: =Pupil_Survey!P50 | G20: =Pupil_Survey!P67 | H20: =Pupil_Survey!P84 | I20: =Pupil_Survey!P101 | J20: =Pupil_Survey!P118 | K20: =Pupil_Survey!P135 | L20: =Pupil_Survey!P152 | M20: =Pupil_Survey!P169 | N20: =Pupil_Survey!P186 | O20: =Pupil_Survey!P203 | P20: =Pupil_Survey!P220 | Q20: =Pupil_Survey!P237 | R20: =Pupil_Survey!P254 | S20: =Pupil_Survey!P271 | T20: =Pupil_Survey!P288 | U20: =Pupil_Survey!P305 | V20: =Pupil_Survey!P322 | W20: =Pupil_Survey!P339 | X20: =Pupil_Survey!P356 | Y20: =Pupil_Survey!P373 | Z20: =Pupil_Survey!P390 | AA20: =Pupil_Survey!P407 | AB20: =Pupil_Survey!P424 | AC20: =Pupil_Survey!P441 | AD20: =Pupil_Survey!P458 | AE20: =Pupil_Survey!P475 | AF20: =Pupil_Survey!P492 | AG20: =Pupil_Survey!P509 | AH20: =Pupil_Survey!P526 | AI20: =Pupil_Survey!P543
A21: =Summary_Sheet!A16 -> Q15. | B21: =Summary_Sheet!B16 -> The art of asking: Overcoming a fear of questioning | C21: =Summary_Sheet!C16 | D21: =Pupil_Survey!P17 | E21: =Pupil_Survey!P34 | F21: =Pupil_Survey!P51 | G21: =Pupil_Survey!P68 | H21: =Pupil_Survey!P85 | I21: =Pupil_Survey!P102 | J21: =Pupil_Survey!P119 | K21: =Pupil_Survey!P136 | L21: =Pupil_Survey!P153 | M21: =Pupil_Survey!P170 | N21: =Pupil_Survey!P187 | O21: =Pupil_Survey!P204 | P21: =Pupil_Survey!P221 | Q21: =Pupil_Survey!P238 | R21: =Pupil_Survey!P255 | S21: =Pupil_Survey!P272 | T21: =Pupil_Survey!P289 | U21: =Pupil_Survey!P306 | V21: =Pupil_Survey!P323 | W21: =Pupil_Survey!P340 | X21: =Pupil_Survey!P357 | Y21: =Pupil_Survey!P374 | Z21: =Pupil_Survey!P391 | AA21: =Pupil_Survey!P408 | AB21: =Pupil_Survey!P425 | AC21: =Pupil_Survey!P442 | AD21: =Pupil_Survey!P459 | AE21: =Pupil_Survey!P476 | AF21: =Pupil_Survey!P493 | AG21: =Pupil_Survey!P510 | AH21: =Pupil_Survey!P527 | AI21: =Pupil_Survey!P544
A22: Questioning Questions (Average) | C22: =AVERAGE(C17:C21) -> #DIV/0! | D22: =AVERAGE(D17:D21) -> #DIV/0! | E22: =AVERAGE(E17:E21) -> #DIV/0! | F22: =AVERAGE(F17:F21) -> #DIV/0! | G22: =AVERAGE(G17:G21) -> #DIV/0! | H22: =AVERAGE(H17:H21) -> #DIV/0! | I22: =AVERAGE(I17:I21) -> #DIV/0! | J22: =AVERAGE(J17:J21) -> #DIV/0! | ... AI22: =AVERAGE(AI17:AI21) -> #DIV/0!
