Workbook

Sheet File management
B3: Using the Big Ambition Master spreadsheet – information and some things to consider . .
B5: Getting Started:
B6: · Download the Big Ambition Master spreadsheet and save it to your hard drive
B7: · Consider how you are going to keep a back-up copy should the worst happen
B8: · There are three tabs at the bottom of the spreadsheet – File Management; Data Sheet; Print Copy.
B9: o File Management contains this information for ease of reference
B10: o Data Sheet is where you keep a record of your observations using the ‘Looking for Learning’ sheet
B11: o Print Copy is used to print out a summary of your data
B12: o [The only tab that you can edit is the ‘Data Sheet’]
B14: Inputting your data:
B15: · Columns G onwards are where you record your judgements – see the Demo Data spreadsheet to see what it will look like.
B16: · For a completed observation, record the key information at the top of the column – date, year group etc etc. This information is vital to enable you to analyse subsets of the master data as the records grow.
... B55: o How would you need to adapt the ‘Looking for Learning’ proforma for student use?

Sheet Data Sheet
E1: Question number | F1: Date
F2: Year Group
F3: Class
F4: Subject
F5: Teacher
F6: Other
F7: Other
F8: Other
A9: =COUNTIF(G9:ZZ9, ">0") -> 0 | B9: =SUM(G9:ZZ9) -> 0 | C9: =B9/A9 -> #DIV/0! | D9: =VLOOKUP($C9,$A$37:$B$39,2,TRUE) -> #DIV/0! | E9: 1 | F9: =A42 -> There are prompts to support learners when they are stuck
A10: =COUNTIF(G10:ZZ10, ">0") -> 0 | B10: =SUM(G10:ZZ10) -> 0 | C10: =B10/A10 -> #DIV/0! | D10: =VLOOKUP($C10,$A$37:$B$39,2,TRUE) -> #DIV/0! | E10: 2 | F10: =A43 -> Learners talk about how they persevere
A11: =COUNTIF(G11:ZZ11, ">0") -> 0 | B11: =SUM(G11:ZZ11) -> 0 | C11: =B11/A11 -> #DIV/0! | D11: =VLOOKUP($C11,$A$37:$B$39,2,TRUE) -> #DIV/0! | E11: 3 | F11: =A44 -> Learning is appropriately challenging for all learners
A12: =COUNTIF(G12:ZZ12, ">0") -> 0 | B12: =SUM(G12:ZZ12) -> 0 | C12: =B12/A12 -> #DIV/0! | D12: =VLOOKUP($C12,$A$37:$B$39,2,TRUE) -> #DIV/0! | E12: 4 | F12: =A45 -> Effort is rewarded over attainment
A13: =COUNTIF(G13:ZZ13, ">0") -> 0 | B13: =SUM(G13:ZZ13) -> 0 | C13: =B13/A13 -> #DIV/0! | D13: =VLOOKUP($C13,$A$37:$B$39,2,TRUE) -> #DIV/0! | E13: 5 | F13: =A46 -> Teachers tend to use a coaching style
A14: =COUNTIF(G14:ZZ14, ">0") -> 0 | B14: =SUM(G14:ZZ14) -> 0 | C14: =B14/A14 -> #DIV/0! | D14: =VLOOKUP($C14,$A$37:$B$39,2,TRUE) -> #DIV/0! | E14: 6 | F14: =A47 -> Learners have opportunities to ask their own questions
A15: =COUNTIF(G15:ZZ15, ">0") -> 0 | B15: =SUM(G15:ZZ15) -> 0 | C15: =B15/A15 -> #DIV/0! | D15: =VLOOKUP($C15,$A$37:$B$39,2,TRUE) -> #DIV/0! | E15: 7 | F15: =A48 -> Lessons are driven by intriguing questions
A16: =COUNTIF(G16:ZZ16, ">0") -> 0 | B16: =SUM(G16:ZZ16) -> 0 | C16: =B16/A16 -> #DIV/0! | D16: =VLOOKUP($C16,$A$37:$B$39,2,TRUE) -> #DIV/0! | E16: 8 | F16: =A49 -> Learners' questions are given display space
A17: =COUNTIF(G17:ZZ17, ">0") -> 0 | B17: =SUM(G17:ZZ17) -> 0 | C17: =B17/A17 -> #DIV/0! | D17: =VLOOKUP($C17,$A$37:$B$39,2,TRUE) -> #DIV/0! | E17: 9 | F17: =A50 -> Learners work with each other constructively
A18: =COUNTIF(G18:ZZ18, ">0") -> 0 | B18: =SUM(G18:ZZ18) -> 0 | C18: =B18/A18 -> #DIV/0! | D18: =VLOOKUP($C18,$A$37:$B$39,2,TRUE) -> #DIV/0! | E18: 10 | F18: =A51 -> Learners build on each other's ideas when learning in teams
A19: =COUNTIF(G19:ZZ19, ">0") -> 0 | B19: =SUM(G19:ZZ19) -> 0 | C19: =B19/A19 -> #DIV/0! | D19: =VLOOKUP($C19,$A$37:$B$39,2,TRUE) -> #DIV/0! | E19: 11 | F19: =A52 -> Lessons encourage pair work and group work.
A20: =COUNTIF(G20:ZZ20, ">0") -> 0 | B20: =SUM(G20:ZZ20) -> 0 | C20: =B20/A20 -> #DIV/0! | D20: =VLOOKUP($C20,$A$37:$B$39,2,TRUE) -> #DIV/0! | E20: 12 | F20: =A53 -> Display nudges effective team working behaviours
... A24: =COUNTIF(G24:ZZ24, ">0") -> 0 | B24: =SUM(G24:ZZ24) -> 0 | C24: =B24/A24 -> #DIV/0! | D24: =VLOOKUP($C24,$A$37:$B$39,2,TRUE) -> #DIV/0! | E24: 16 | F24: =A57 -> Display shows work in progress
A25: Pers | C25: =(SUM(C9:C12)/4) -> #DIV/0! | D25: =VLOOKUP($C25,$A$37:$B$39,2,TRUE) -> #DIV/0!
A26: Qn | C26: =(SUM(C13:C16)/4) -> #DIV/0! | D26: =VLOOKUP($C26,$A$37:$B$39,2,TRUE) -> #DIV/0!
A27: Collab | C27: =(SUM(C17:C20)/4) -> #DIV/0! | D27: =VLOOKUP($C27,$A$37:$B$39,2,TRUE) -> #DIV/0!
A28: Revise | C28: =(SUM(C21:C24)/4) -> #DIV/0! | D28: =VLOOKUP($C28,$A$37:$B$39,2,TRUE) -> #DIV/0!
A29: C1 | C29: =(C9+C13+C17+C21)/4 -> #DIV/0! | D29: =VLOOKUP($C29,$A$37:$B$39,2,TRUE) -> #DIV/0!
A30: C2 | C30: =(C10+C14+C18+C22)/4 -> #DIV/0! | D30: =VLOOKUP($C30,$A$37:$B$39,2,TRUE) -> #DIV/0!
A31: C3 | C31: =(C11+C15+C19+C23)/4 -> #DIV/0! | D31: =VLOOKUP($C31,$A$37:$B$39,2,TRUE) -> #DIV/0!
A32: C4 | C32: =(C12+C16+C20+C24)/4 -> #DIV/0! | D32: =VLOOKUP($C32,$A$37:$B$39,2,TRUE) -> #DIV/0!
A37: 1 | B37: Little evidence
A38: 1.7 | B38: Some evidence
A39: 2.3 | B39: Lots of evidence
A42: There are prompts to support learners when they are stuck
A43: Learners talk about how they persevere
A44: Learning is appropriately challenging for all learners
A45: Effort is rewarded over attainment
A46: Teachers tend to use a coaching style
A47: Learners have opportunities to ask their own questions
A48: Lessons are driven by intriguing questions
A49: Learners' questions are given display space
A50: Learners work with each other constructively
A51: Learners build on each other's ideas when learning in teams
A52: Lessons encourage pair work and group work.
A53: Display nudges effective team working behaviours
... A57: Display shows work in progress

Sheet Print copy
B2: ='Data Sheet'!E9 -> 1 | C2: ='Data Sheet'!F9 -> There are prompts to support learners when they are stuck | E2: ='Data Sheet'!D9 -> #DIV/0!
B3: ='Data Sheet'!E10 -> 2 | C3: ='Data Sheet'!F10 -> Learners talk about how they persevere | E3: ='Data Sheet'!D10 -> #DIV/0!
B4: ='Data Sheet'!E11 -> 3 | C4: ='Data Sheet'!F11 -> Learning is appropriately challenging for all learners | E4: ='Data Sheet'!D11 -> #DIV/0!
B5: ='Data Sheet'!E12 -> 4 | C5: ='Data Sheet'!F12 -> Effort is rewarded over attainment | E5: ='Data Sheet'!D12 -> #DIV/0!
B6: ='Data Sheet'!E13 -> 5 | C6: ='Data Sheet'!F13 -> Teachers tend to use a coaching style | E6: ='Data Sheet'!D13 -> #DIV/0!
B7: ='Data Sheet'!E14 -> 6 | C7: ='Data Sheet'!F14 -> Learners have opportunities to ask their own questions | E7: ='Data Sheet'!D14 -> #DIV/0!
B8: ='Data Sheet'!E15 -> 7 | C8: ='Data Sheet'!F15 -> Lessons are driven by intriguing questions | E8: ='Data Sheet'!D15 -> #DIV/0!
B9: ='Data Sheet'!E16 -> 8 | C9: ='Data Sheet'!F16 -> Learners' questions are given display space | E9: ='Data Sheet'!D16 -> #DIV/0!
B10: ='Data Sheet'!E17 -> 9 | C10: ='Data Sheet'!F17 -> Learners work with each other constructively | E10: ='Data Sheet'!D17 -> #DIV/0!
B11: ='Data Sheet'!E18 -> 10 | C11: ='Data Sheet'!F18 -> Learners build on each other's ideas when learning in teams | E11: ='Data Sheet'!D18 -> #DIV/0!
B12: ='Data Sheet'!E19 -> 11 | C12: ='Data Sheet'!F19 -> Lessons encourage pair work and group work. | E12: ='Data Sheet'!D19 -> #DIV/0!
B13: ='Data Sheet'!E20 -> 12 | C13: ='Data Sheet'!F20 -> Display nudges effective team working behaviours | E13: ='Data Sheet'!D20 -> #DIV/0!
... B17: ='Data Sheet'!E24 -> 16 | C17: ='Data Sheet'!F24 -> Display shows work in progress | E17: ='Data Sheet'!D24 -> #DIV/0!
C19: The 4 questions relating to Perseverance | E19: ='Data Sheet'!D25 -> #DIV/0!
C20: The 4 questions relating to Questioning | E20: ='Data Sheet'!D26 -> #DIV/0!
C21: The 4 questions relating to Collaboration | E21: ='Data Sheet'!D27 -> #DIV/0!
C22: The 4 questions relating to Revising | E22: ='Data Sheet'!D28 -> #DIV/0!
C24: The 4 questions relating to relating for learning | E24: ='Data Sheet'!D29 -> #DIV/0!
C25: The 4 questions relating to talking for learning | E25: ='Data Sheet'!D30 -> #DIV/0!
C26: The 4 questions relating to constructing learning | E26: ='Data Sheet'!D31 -> #DIV/0!
C27: The 4 questions relating to celebrating learning | E27: ='Data Sheet'!D32 -> #DIV/0!
